BEGIN:VCALENDAR
VERSION:2.0
PRODID:-//ChamberMaster//Event Calendar 2.0//EN
METHOD:PUBLISH
X-PUBLISHED-TTL:P1H
REFRESH-INTERVAL:P1H
CALSCALE:GREGORIAN
BEGIN:VTIMEZONE
TZID:America/New_York
BEGIN:DAYLIGHT
RRULE:FREQ=YEARLY;BYMONTH=3;BYDAY=2SU
DTSTART:20070101T000000
TZOFFSETFROM:-0500
TZOFFSETTO:-0400
TZNAME:Eastern Daylight Time
END:DAYLIGHT
BEGIN:STANDARD
RRULE:FREQ=YEARLY;BYMONTH=11;BYDAY=1SU
DTSTART:20070101T000000
TZOFFSETFROM:-0400
TZOFFSETTO:-0500
TZNAME:Eastern Standard Time
END:STANDARD
END:VTIMEZONE
BEGIN:VEVENT
DTSTART;TZID=America/New_York:20260416T130000
DTEND;TZID=America/New_York:20260416T170000
X-MICROSOFT-CDO-ALLDAYEVENT:FALSE
SUMMARY:206 – Snap Ring Design Training Program Webinar
DESCRIPTION:** Canceled **SMI will offer our spring design training webinar for snap ring design on Thursday\, April 16\, 2026\, from 1:00 to 5:00 pm EDT using Microsoft Teams. SMI's Spring Design 206 - Snap Ring Design webinar combines instruction on basic spring design fundamentals\, along with the opportunity for hands-on use of SMI's world-famous Advanced Spring Design 7 (ASD7) software. The course is designed as a focused\, real-world spring design training session. SMI will provide an ASD7 30-day license to each registered participant. In addition\, Universal Technical Systems\, Inc. (UTS) CalcEdge snap ring software application will be demonstrated.
X-ALT-DESC;FMTTYPE=text/html:<!DOCTYPE html><html><head><title></title></head><body aria-disabled="false"><p>** Canceled **</p><p>SMI will offer our spring design training webinar for snap ring design on Thursday\, April 16\, 2026\, from 1:00 to 5:00 pm EDT using Microsoft Teams. SMI&#39\;s Spring Design 206 - Snap Ring Design webinar combines instruction on basic spring design fundamentals\, along with the opportunity for hands-on use of SMI&#39\;s world-famous Advanced Spring Design 7 (ASD7) software. The course is designed as a focused\, real-world spring design training session. SMI will provide an ASD7 30-day license to each registered participant. In addition\, Universal Technical Systems\, Inc. (UTS) CalcEdge snap ring software application will be demonstrated.</p></body></html>
LOCATION:
UID:e.4239.1345231
SEQUENCE:3
DTSTAMP:20260425T233750Z
URL:https://members.smihq.org/calendar/Details/206-snap-ring-design-training-program-webinar-1581348?sourceTypeId=Hub
END:VEVENT
END:VCALENDAR
